BEGIN:VCALENDAR
VERSION:2.0
PRODID:-//jEvents 2.0 for Joomla//EN
CALSCALE:GREGORIAN
METHOD:PUBLISH
BEGIN:VEVENT
UID:1a4fb8ed52ebb25c3213d03835fda69c
CATEGORIES:Vereinstermine
CREATED:20120305T171058
SUMMARY:ADAC Jugend-Kart-Slalom
LOCATION:Reinhold Schmidt Platz
DESCRIPTION:<p>Weitere Informationen folgen in Kürze.</p>
DTSTAMP:20260424T140820
DTSTART;VALUE=DATE:20260628
DTEND;VALUE=DATE:20260629
SEQUENCE:0
TRANSP:OPAQUE
END:VEVENT
END:VCALENDAR