BEGIN:VCALENDAR
VERSION:2.0
PRODID:-//jEvents 2.0 for Joomla//EN
CALSCALE:GREGORIAN
METHOD:PUBLISH
BEGIN:VEVENT
UID:fd9839bde10f6869fac10e0cf2c4c1fc
CATEGORIES:Vereinstermine
CREATED:20120329T185020
SUMMARY:12. ADAC PROTRACK Rallye fränk. Weinland
LOCATION:Ortsteil Hammelburg
DESCRIPTION:<p>Weitere Informationen folgen in Kürze.</p>
DTSTAMP:20260424T140804
DTSTART;VALUE=DATE:20260425
DTEND;VALUE=DATE:20260426
SEQUENCE:0
TRANSP:OPAQUE
END:VEVENT
END:VCALENDAR