BEGIN:VCALENDAR
VERSION:2.0
PRODID:-//jEvents 2.0 for Joomla//EN
CALSCALE:GREGORIAN
METHOD:PUBLISH
BEGIN:VEVENT
UID:184e3178296973ac2247c32804dc5e29
CATEGORIES:Vereinstermine
CREATED:20131230T163937
SUMMARY:Hüttenschluß mit Arbeitsdienst
DESCRIPTION:
DTSTAMP:20260424T140804
DTSTART;VALUE=DATE:20261114
DTEND;VALUE=DATE:20261115
SEQUENCE:0
TRANSP:OPAQUE
END:VEVENT
END:VCALENDAR