BEGIN:VCALENDAR
VERSION:2.0
PRODID:-//jEvents 2.0 for Joomla//EN
CALSCALE:GREGORIAN
METHOD:PUBLISH
BEGIN:VEVENT
UID:5618aafc3430c7bf536e874805262a7d
CATEGORIES:Vereinstermine
CREATED:20251219T191521
SUMMARY:Waldweihnacht 2026
DESCRIPTION:
DTSTAMP:20260424T140826
DTSTART;VALUE=DATE:20261219
DTEND;VALUE=DATE:20261220
SEQUENCE:0
TRANSP:OPAQUE
END:VEVENT
END:VCALENDAR