BEGIN:VCALENDAR
VERSION:2.0
PRODID:-//jEvents 2.0 for Joomla//EN
CALSCALE:GREGORIAN
METHOD:PUBLISH
BEGIN:VEVENT
UID:7482e72619d3459b82ecac48b5bfa884
CATEGORIES:Vereinstermine
CREATED:20251219T191347
SUMMARY:Siegerehrung unterfränkischer Jugend-Kart-Slalom-Pokal
DESCRIPTION:Wir sind dieses Jahr federführend für den unterfränkischen Jugend-Kart-Slal
 om-Pokal.\n
X-ALT-DESC;FMTTYPE=text/html:<p>Wir sind dieses Jahr federführend für den unterfränkischen Jugend-Kart-S
 lalom-Pokal.</p>
DTSTAMP:20260424T140642
DTSTART;VALUE=DATE:20261017
DTEND;VALUE=DATE:20261018
SEQUENCE:0
TRANSP:OPAQUE
END:VEVENT
END:VCALENDAR