BEGIN:VCALENDAR
VERSION:2.0
PRODID:-//jEvents 2.0 for Joomla//EN
CALSCALE:GREGORIAN
METHOD:PUBLISH
BEGIN:VEVENT
UID:10afec30b2a33e2f6370fc9e1f6f5ede
CATEGORIES:Vereinstermine
CREATED:20251219T190851
SUMMARY:75 Jahre AMSC Hammelburg
DESCRIPTION:Wir feiern 75jähriges Jubiläum! Weitere Infos folgen.\n
X-ALT-DESC;FMTTYPE=text/html:<p>Wir feiern 75jähriges Jubiläum! Weitere Infos folgen.</p>
DTSTAMP:20260424T140647
DTSTART;VALUE=DATE:20260725
DTEND;VALUE=DATE:20260726
SEQUENCE:0
TRANSP:OPAQUE
END:VEVENT
END:VCALENDAR