BEGIN:VCALENDAR
VERSION:2.0
PRODID:-//jEvents 2.0 for Joomla//EN
CALSCALE:GREGORIAN
METHOD:PUBLISH
BEGIN:VEVENT
UID:ebba8e6b6229ecceec995ade6c484349
CATEGORIES:Vereinstermine
CREATED:20230915T131946
SUMMARY:ADAC Oldtimertreffen
LOCATION:Marktplatz Hammelburg
DESCRIPTION:
DTSTAMP:20260424T140658
DTSTART;VALUE=DATE:20260920
DTEND;VALUE=DATE:20260921
SEQUENCE:0
TRANSP:OPAQUE
END:VEVENT
END:VCALENDAR