BEGIN:VCALENDAR
VERSION:2.0
PRODID:-//jEvents 2.0 for Joomla//EN
CALSCALE:GREGORIAN
METHOD:PUBLISH
BEGIN:VEVENT
UID:b93b10842b6b1cd83d9caaf4a32ad477
CATEGORIES:Vereinstermine
CREATED:20170117T210250
SUMMARY:ADAC 270ccm Kart-Slalom
DESCRIPTION:Weitere Informationen finden Sie zeitnah unter dem Menüpunkt "270 ccm Kart"
   (/kartsport/270-ccm-kart)\n
X-ALT-DESC;FMTTYPE=text/html:<p>Weitere Informationen finden Sie zeitnah unter dem Menüpunkt <a href="ht
 tps://www.amsc.de/kartsport/270-ccm-kart">"270 ccm Kart"&nbsp;</a></p>
DTSTAMP:20260424T140646
DTSTART;VALUE=DATE:20260711
DTEND;VALUE=DATE:20260712
SEQUENCE:0
TRANSP:OPAQUE
END:VEVENT
END:VCALENDAR