BEGIN:VCALENDAR
VERSION:2.0
PRODID:-//jEvents 2.0 for Joomla//EN
CALSCALE:GREGORIAN
METHOD:PUBLISH
BEGIN:VEVENT
UID:ec7f4fb9fc9e142dd27ff00188a70ea2
CATEGORIES:Vereinstermine
CREATED:20120305T171213
SUMMARY:Vereinsmeisterschaft 
LOCATION:Reinhold Schmidt Platz
DESCRIPTION:
DTSTAMP:20260424T140819
DTSTART;VALUE=DATE:20260926
DTEND;VALUE=DATE:20260927
SEQUENCE:0
TRANSP:OPAQUE
END:VEVENT
END:VCALENDAR